BEGIN:VCALENDAR
VERSION:2.0
PRODID:-//Reservistenkameradschaft Potsdam - ECPv6.15.20//NONSGML v1.0//EN
CALSCALE:GREGORIAN
METHOD:PUBLISH
X-ORIGINAL-URL:https://www.reservisten-brandenburg.de/potsdam
X-WR-CALDESC:Veranstaltungen für Reservistenkameradschaft Potsdam
REFRESH-INTERVAL;VALUE=DURATION:PT1H
X-Robots-Tag:noindex
X-PUBLISHED-TTL:PT1H
BEGIN:VTIMEZONE
TZID:Europe/Berlin
BEGIN:DAYLIGHT
TZOFFSETFROM:+0100
TZOFFSETTO:+0200
TZNAME:CEST
DTSTART:20250330T010000
END:DAYLIGHT
BEGIN:STANDARD
TZOFFSETFROM:+0200
TZOFFSETTO:+0100
TZNAME:CET
DTSTART:20251026T010000
END:STANDARD
BEGIN:DAYLIGHT
TZOFFSETFROM:+0100
TZOFFSETTO:+0200
TZNAME:CEST
DTSTART:20260329T010000
END:DAYLIGHT
BEGIN:STANDARD
TZOFFSETFROM:+0200
TZOFFSETTO:+0100
TZNAME:CET
DTSTART:20261025T010000
END:STANDARD
BEGIN:DAYLIGHT
TZOFFSETFROM:+0100
TZOFFSETTO:+0200
TZNAME:CEST
DTSTART:20270328T010000
END:DAYLIGHT
BEGIN:STANDARD
TZOFFSETFROM:+0200
TZOFFSETTO:+0100
TZNAME:CET
DTSTART:20271031T010000
END:STANDARD
END:VTIMEZONE
BEGIN:VEVENT
DTSTART;TZID=Europe/Berlin:20260305T190000
DTEND;TZID=Europe/Berlin:20260305T220000
DTSTAMP:20260425T033420
CREATED:20251231T154406Z
LAST-MODIFIED:20260113T203410Z
UID:8947-1772737200-1772748000@www.reservisten-brandenburg.de
SUMMARY:RK-Abend
DESCRIPTION:Der RK-Abend ist der regelmäßige Treffpunkt der RK-Potsdam. Er findet im Regelfall Angang des Monats in unserem RK-Raum in der Havelland-Kaserne statt. \nDie Anmeldung ist für RK-Mitglieder im Regelfall nicht erforderlich\, aber erbeten. Dies vereinfacht uns die Vorbereitung und gibt uns die Möglichkeit bei kurzfristigen Änderungen gezielt zu Informieren. \nÜblicherweise besorgen wir zum RK-Abend einen kleinen Imbiss. Der Einkauf richtet sich nach den angemeldeten Teilnehmern. Nichtangemeldete Teilnehmer können dann ggf. bei der Verpflegung nicht berücksichtigt werden.
URL:https://www.reservisten-brandenburg.de/potsdam/event/rk-abend-56/
LOCATION:Havelland-Kaserne\, Kaiser-Friedrich-Straße 49\, Potsdam\, 14469
CATEGORIES:RK Veranstaltung,RK-Abend
ATTACH;FMTTYPE=image/jpeg:https://www.reservisten-brandenburg.de/potsdam/wp-content/uploads/sites/3/2020/03/RK-Potsdam_RK-Abend-e1625081945471.jpg
ORGANIZER;CN="RK Potsdam":MAILTO:opz@rk-potsdam.com
END:VEVENT
BEGIN:VEVENT
DTSTART;TZID=Europe/Berlin:20260321T080000
DTEND;TZID=Europe/Berlin:20260321T170000
DTSTAMP:20260425T033420
CREATED:20251222T003345Z
LAST-MODIFIED:20260318T061720Z
UID:8904-1774080000-1774112400@www.reservisten-brandenburg.de
SUMMARY:Funkausbildung Endanwender DigFu BOS
DESCRIPTION:Ausbildungsziel ist es die Teilnehmerinnen und Teilnehmer zu befähigen Endgeräte innerhalb des Digitalfunks für Behörden und Organisationen mit Sicherheitsaufgaben\, unter Berücksichtigung der operativen\, taktischen und technischen Einsatzmöglichkeiten\, anzuwenden. Dazu erfolgt die Ausbildung gem der Regelung A2-970/0-0-4606 Der Digitalfunk der Behörden und Organisationen mit Sicherheitsaufgaben​\, so dass im Anschluss die Qualifikation Endanwender DigFu BOS vergeben werden kann. \nDie Teilnehmer haben dazu im Vorfeld selbstständig eine Onlinemodul durchzuarbeiten und durch ein entsprechendes Zertifikat nachzuweisen. Der Link wird an angemeldete Teilnehmer vor Durchführung der Ausbildung per E-Mail verteilt. \nDie geplante Zeit ist ein Anhalt. Aus organistorischen Gründen sind Änderungen nicht auszuschließen. Angemeldete Teilnehmer werden im dem Fall informiert.
URL:https://www.reservisten-brandenburg.de/potsdam/event/funk-digfu-bos/
LOCATION:Havelland-Kaserne\, Kaiser-Friedrich-Straße 49\, Potsdam\, 14469
CATEGORIES:Digitalfunk,DVag/VVag UTE,Fernmeldedienst,Militärische Ausbildung
ATTACH;FMTTYPE=image/jpeg:https://www.reservisten-brandenburg.de/potsdam/wp-content/uploads/sites/3/2025/12/DigFuBOS.jpg
ORGANIZER;CN="RK Potsdam":MAILTO:opz@rk-potsdam.com
END:VEVENT
END:VCALENDAR