BEGIN:VCALENDAR
VERSION:2.0
PRODID:-//Reservistenkameradschaft Potsdam - ECPv6.15.20//NONSGML v1.0//EN
CALSCALE:GREGORIAN
METHOD:PUBLISH
X-ORIGINAL-URL:https://www.reservisten-brandenburg.de/potsdam
X-WR-CALDESC:Veranstaltungen für Reservistenkameradschaft Potsdam
REFRESH-INTERVAL;VALUE=DURATION:PT1H
X-Robots-Tag:noindex
X-PUBLISHED-TTL:PT1H
BEGIN:VTIMEZONE
TZID:Europe/Berlin
BEGIN:DAYLIGHT
TZOFFSETFROM:+0100
TZOFFSETTO:+0200
TZNAME:CEST
DTSTART:20240331T010000
END:DAYLIGHT
BEGIN:STANDARD
TZOFFSETFROM:+0200
TZOFFSETTO:+0100
TZNAME:CET
DTSTART:20241027T010000
END:STANDARD
BEGIN:DAYLIGHT
TZOFFSETFROM:+0100
TZOFFSETTO:+0200
TZNAME:CEST
DTSTART:20250330T010000
END:DAYLIGHT
BEGIN:STANDARD
TZOFFSETFROM:+0200
TZOFFSETTO:+0100
TZNAME:CET
DTSTART:20251026T010000
END:STANDARD
BEGIN:DAYLIGHT
TZOFFSETFROM:+0100
TZOFFSETTO:+0200
TZNAME:CEST
DTSTART:20260329T010000
END:DAYLIGHT
BEGIN:STANDARD
TZOFFSETFROM:+0200
TZOFFSETTO:+0100
TZNAME:CET
DTSTART:20261025T010000
END:STANDARD
END:VTIMEZONE
BEGIN:VEVENT
DTSTART;TZID=Europe/Berlin:20250315T090000
DTEND;TZID=Europe/Berlin:20250315T150000
DTSTAMP:20260422T104420
CREATED:20241118T091812Z
LAST-MODIFIED:20250108T224504Z
UID:8766-1742029200-1742050800@www.reservisten-brandenburg.de
SUMMARY:Frühjahrsputz auf dem Südwestkirchhof in Stahnsdorf
DESCRIPTION:Es ist wieder soweit! Der alljährliche Frühjahrsputz auf dem Südwestkirchhof in Stahnsdorf findet dieses Jahr im März statt. Bitte meldet Euch bis 01.02.2025 mit Dienstgrad und PK\, damit rechtzeitig die Uniformtrageerlaubnis beantragt werden kann. Wir würden uns freuen\, wenn ihr zahlreich daran teilnehmen könnt. \n\nTreffpunkt: 08:45 Uhr am Haupteingang\nAnzug: Feldanzug – Grundform\nVerpflegung: Wird durch die Friedhofsleitung gestellt\nVerantwortliche: Henrik Gutzke
URL:https://www.reservisten-brandenburg.de/potsdam/event/fruehjahrsputz-2025/
LOCATION:Südwestkirchhof Stahnsdorf\, Bahnhofstraße 2\, Stahnsdorf\, 14532\, Deutschland
CATEGORIES:Öffentlichkeitsarbeit
ATTACH;FMTTYPE=image/jpeg:https://www.reservisten-brandenburg.de/potsdam/wp-content/uploads/sites/3/2020/06/Frühjahrsputz-Stahnsdorf-2019.jpg
ORGANIZER;CN="RK Potsdam":MAILTO:opz@rk-potsdam.com
END:VEVENT
BEGIN:VEVENT
DTSTART;TZID=Europe/Berlin:20250329T100000
DTEND;TZID=Europe/Berlin:20250329T140000
DTSTAMP:20260422T104420
CREATED:20250219T201916Z
LAST-MODIFIED:20250313T192736Z
UID:8814-1743242400-1743256800@www.reservisten-brandenburg.de
SUMMARY:Arbeitseinsatz im RK-Raum
DESCRIPTION:
URL:https://www.reservisten-brandenburg.de/potsdam/event/arbeitseinsatz-im-rk-raum/
LOCATION:Havelland-Kaserne\, Kaiser-Friedrich-Straße 49\, Potsdam\, 14469
CATEGORIES:RK Veranstaltung
ATTACH;FMTTYPE=image/jpeg:https://www.reservisten-brandenburg.de/potsdam/wp-content/uploads/sites/3/2020/03/RK-Potsdam.jpg
ORGANIZER;CN="RK Potsdam":MAILTO:opz@rk-potsdam.com
END:VEVENT
END:VCALENDAR