BEGIN:VCALENDAR
VERSION:2.0
PRODID:-//Reservistenkameradschaft Potsdam - ECPv6.15.20//NONSGML v1.0//EN
CALSCALE:GREGORIAN
METHOD:PUBLISH
X-WR-CALNAME:Reservistenkameradschaft Potsdam
X-ORIGINAL-URL:https://www.reservisten-brandenburg.de/potsdam
X-WR-CALDESC:Veranstaltungen für Reservistenkameradschaft Potsdam
REFRESH-INTERVAL;VALUE=DURATION:PT1H
X-Robots-Tag:noindex
X-PUBLISHED-TTL:PT1H
BEGIN:VTIMEZONE
TZID:Europe/Berlin
BEGIN:DAYLIGHT
TZOFFSETFROM:+0100
TZOFFSETTO:+0200
TZNAME:CEST
DTSTART:20210328T010000
END:DAYLIGHT
BEGIN:STANDARD
TZOFFSETFROM:+0200
TZOFFSETTO:+0100
TZNAME:CET
DTSTART:20211031T010000
END:STANDARD
BEGIN:DAYLIGHT
TZOFFSETFROM:+0100
TZOFFSETTO:+0200
TZNAME:CEST
DTSTART:20220327T010000
END:DAYLIGHT
BEGIN:STANDARD
TZOFFSETFROM:+0200
TZOFFSETTO:+0100
TZNAME:CET
DTSTART:20221030T010000
END:STANDARD
BEGIN:DAYLIGHT
TZOFFSETFROM:+0100
TZOFFSETTO:+0200
TZNAME:CEST
DTSTART:20230326T010000
END:DAYLIGHT
BEGIN:STANDARD
TZOFFSETFROM:+0200
TZOFFSETTO:+0100
TZNAME:CET
DTSTART:20231029T010000
END:STANDARD
END:VTIMEZONE
BEGIN:VEVENT
DTSTART;TZID=Europe/Berlin:20220804T190000
DTEND;TZID=Europe/Berlin:20220804T220000
DTSTAMP:20260419T165210
CREATED:20210705T211853Z
LAST-MODIFIED:20230725T225630Z
UID:8130-1659639600-1659650400@www.reservisten-brandenburg.de
SUMMARY:RK-Abend
DESCRIPTION:Der RK-Abend ist der regelmäßige Treffpunkt der RK-Potsdam. Er findet im Regelfall am 1. Donnerstag im Monat in unserem RK-Raum in der Havelland-Kaserne statt. \nDie Anmeldung ist für RK-Mitglieder im Regelfall nicht erforderlich\, aber erbeten. Dies vereinfacht die Vorbereitung und gibt uns die Möglichkeit bei kurzfristigen Änderungen gezielt zu Informieren. \nÜblicherweise besorgen wir zum RK-Abend einen kleinen Imbiss. Der Einkauf richtet sich nach den angemeldeten Teilnehmern. Nichtangemeldete Teilnehmer können dann ggf. bei der Verpflegung nicht berücksichtigt werden.
URL:https://www.reservisten-brandenburg.de/potsdam/event/rk-abend-22/
LOCATION:Havelland-Kaserne\, Kaiser-Friedrich-Straße 49\, Potsdam\, 14469
CATEGORIES:RK Veranstaltung,RK-Abend
ATTACH;FMTTYPE=image/jpeg:https://www.reservisten-brandenburg.de/potsdam/wp-content/uploads/sites/3/2021/06/RK-Potsdam_RK-Abend_1Do.jpg
ORGANIZER;CN="RK Potsdam":MAILTO:opz@rk-potsdam.com
END:VEVENT
BEGIN:VEVENT
DTSTART;TZID=Europe/Berlin:20220818T180000
DTEND;TZID=Europe/Berlin:20220818T220000
DTSTAMP:20260419T165210
CREATED:20220628T214258Z
LAST-MODIFIED:20231031T235442Z
UID:8257-1660845600-1660860000@www.reservisten-brandenburg.de
SUMMARY:AGSHP in Potsdam
DESCRIPTION:AGSHP-Training der RK Potsdam für Reservisten.
URL:https://www.reservisten-brandenburg.de/potsdam/event/agshp-in-potsdam/
LOCATION:Henning-von-Tresckow-Kaserne\, Werderscher Damm 21-29\, Schwielowsee\, 14548
CATEGORIES:AGSHP
ATTACH;FMTTYPE=image/jpeg:https://www.reservisten-brandenburg.de/potsdam/wp-content/uploads/sites/3/2020/06/PzFst-3-AGSHP-1.jpg
ORGANIZER;CN="RK Potsdam":MAILTO:opz@rk-potsdam.com
END:VEVENT
END:VCALENDAR