BEGIN:VCALENDAR
VERSION:2.0
PRODID:-//Oderlandmarsch - ECPv6.15.20//NONSGML v1.0//EN
CALSCALE:GREGORIAN
METHOD:PUBLISH
X-WR-CALNAME:Oderlandmarsch
X-ORIGINAL-URL:https://www.reservisten-brandenburg.de/oderlandmarsch
X-WR-CALDESC:Veranstaltungen für Oderlandmarsch
REFRESH-INTERVAL;VALUE=DURATION:PT1H
X-Robots-Tag:noindex
X-PUBLISHED-TTL:PT1H
BEGIN:VTIMEZONE
TZID:Europe/Berlin
BEGIN:DAYLIGHT
TZOFFSETFROM:+0100
TZOFFSETTO:+0200
TZNAME:CEST
DTSTART:20250330T010000
END:DAYLIGHT
BEGIN:STANDARD
TZOFFSETFROM:+0200
TZOFFSETTO:+0100
TZNAME:CET
DTSTART:20251026T010000
END:STANDARD
BEGIN:DAYLIGHT
TZOFFSETFROM:+0100
TZOFFSETTO:+0200
TZNAME:CEST
DTSTART:20260329T010000
END:DAYLIGHT
BEGIN:STANDARD
TZOFFSETFROM:+0200
TZOFFSETTO:+0100
TZNAME:CET
DTSTART:20261025T010000
END:STANDARD
BEGIN:DAYLIGHT
TZOFFSETFROM:+0100
TZOFFSETTO:+0200
TZNAME:CEST
DTSTART:20270328T010000
END:DAYLIGHT
BEGIN:STANDARD
TZOFFSETFROM:+0200
TZOFFSETTO:+0100
TZNAME:CET
DTSTART:20271031T010000
END:STANDARD
END:VTIMEZONE
BEGIN:VEVENT
DTSTART;VALUE=DATE:20260530
DTEND;VALUE=DATE:20260531
DTSTAMP:20260421T183219
CREATED:20221226T134024Z
LAST-MODIFIED:20260101T020101Z
UID:211-1780099200-1780185599@www.reservisten-brandenburg.de
SUMMARY:Oderlandmarsch - Mannschaftsmeldung
DESCRIPTION:Der Oderlandmarsch ist eine öffentliche Veranstaltung der Bundeswehr. Melden Sie sich hier mit Ihrer Mannschaft für die Teilnahme am Oderlandmarsch 2026 an. Eine Mannschaft besteht aus fünf Wettkämpferinnen und Wettkämpfern. Die Anmeldung ist bis zum 13. April 2026 möglich. Im Regelfall liegen aber für die verfügbaren Startplätze deutlich vorher Anmeldungen vor. \nEine Zusage Ihrer Wettkampfteilnahme erfolgt auf Grundlage der eingegangenen Anmeldungen durch den Veranstalter per E-Mail. Maßgeblich für Ihre Teilnahme ist nur diese Zusage. \nWenn die verfügbaren Startplätze ausgeschöpft sind\, können Sie sich gerne auf der Warteliste eintragen. Bei Absagen bereits angemeldeter Teilnehmer oder dem möglichen Aufbau weiterer Kapazitäten\, rücken Sie dann automatisch nach. Durch das System werden Sie dann unvertüglich per E-Mail informiert.
URL:https://www.reservisten-brandenburg.de/oderlandmarsch/event/oderlandmarsch-mannschaft/
LOCATION:Guben\, Gasstraße 11\, Guben\, 03172
ATTACH;FMTTYPE=image/jpeg:https://www.reservisten-brandenburg.de/oderlandmarsch/wp-content/uploads/sites/10/2022/04/Oderlandmarsch-2017-Strohballen.jpg
ORGANIZER;CN="Landeskommando Brandenburg":MAILTO:LKdoBB-Oderlandmarsch@bundeswehr.org
END:VEVENT
END:VCALENDAR