BEGIN:VCALENDAR
VERSION:2.0
PRODID:-//Reservistenverband Brandenburg - ECPv6.15.20//NONSGML v1.0//EN
CALSCALE:GREGORIAN
METHOD:PUBLISH
X-ORIGINAL-URL:https://www.reservisten-brandenburg.de
X-WR-CALDESC:Veranstaltungen für Reservistenverband Brandenburg
REFRESH-INTERVAL;VALUE=DURATION:PT1H
X-Robots-Tag:noindex
X-PUBLISHED-TTL:PT1H
BEGIN:VTIMEZONE
TZID:Europe/Berlin
BEGIN:DAYLIGHT
TZOFFSETFROM:+0100
TZOFFSETTO:+0200
TZNAME:CEST
DTSTART:20230326T010000
END:DAYLIGHT
BEGIN:STANDARD
TZOFFSETFROM:+0200
TZOFFSETTO:+0100
TZNAME:CET
DTSTART:20231029T010000
END:STANDARD
BEGIN:DAYLIGHT
TZOFFSETFROM:+0100
TZOFFSETTO:+0200
TZNAME:CEST
DTSTART:20240331T010000
END:DAYLIGHT
BEGIN:STANDARD
TZOFFSETFROM:+0200
TZOFFSETTO:+0100
TZNAME:CET
DTSTART:20241027T010000
END:STANDARD
BEGIN:DAYLIGHT
TZOFFSETFROM:+0100
TZOFFSETTO:+0200
TZNAME:CEST
DTSTART:20250330T010000
END:DAYLIGHT
BEGIN:STANDARD
TZOFFSETFROM:+0200
TZOFFSETTO:+0100
TZNAME:CET
DTSTART:20251026T010000
END:STANDARD
END:VTIMEZONE
BEGIN:VEVENT
DTSTART;TZID=Europe/Berlin:20240610T193000
DTEND;TZID=Europe/Berlin:20240610T210000
DTSTAMP:20260423T020626
CREATED:20240530T185148Z
LAST-MODIFIED:20240610T164724Z
UID:10177-1718047800-1718053200@www.reservisten-brandenburg.de
SUMMARY:Sitzung des erw. Landesvorstandes mit Nachwahl (online)
DESCRIPTION:An der Sitzung des erweiterten Landesvorstandes nehmen die Mitglieder des Landesvorstandes und die Vorsitzenden der Reservistenkameradschaften bzw. deren Vertreter teil. Jede RK sollte sicherstellen\, dass ein Vertreter an der Sitzung teilnimmt. \nTagesordnung siehe der an die Vorstände versendeten Einladung. \n\nBitte nur eingeladene Teilnehmer (oder deren Vertreter aus den RKen) anmelden. Weitere Anmeldungen werden nicht zugelassen und wieder entfernt.
URL:https://www.reservisten-brandenburg.de/event/sitzung-des-erw-landesvorstandes-mit-nachwahl-online/
LOCATION:online\, Potsdam\, Deutschland
CATEGORIES:Landesgruppe,Landesvorstand,Verbandsarbeit
ATTACH;FMTTYPE=image/jpeg:https://www.reservisten-brandenburg.de/wp-content/uploads/2020/06/Landesgruppe_Brandenburg_online.jpg
ORGANIZER;CN="Landesvorstand":MAILTO:opz@reservisten-brandenburg.de
END:VEVENT
BEGIN:VEVENT
DTSTART;VALUE=DATE:20240615
DTEND;VALUE=DATE:20240616
DTSTAMP:20260423T020626
CREATED:20240314T204304Z
LAST-MODIFIED:20240314T204338Z
UID:10077-1718409600-1718495999@www.reservisten-brandenburg.de
SUMMARY:Zurechtfinden im Gelände: Kessel von Halbe
DESCRIPTION:Zurechtfinden im Gelände in und um Halbe\, dabei Gebrauch von Karte und Kompass. \nLeitung: StFw Glauer
URL:https://www.reservisten-brandenburg.de/event/kessel-von-halbe/
LOCATION:Halbe\, Halbe\, 15757\, Deutschland
CATEGORIES:Politisch-historische Bildung,Sicherheitspolitik
ATTACH;FMTTYPE=image/jpeg:https://www.reservisten-brandenburg.de/wp-content/uploads/2023/07/2023-06-28-Halbe-Lageeinweisung-1.jpg
ORGANIZER;CN="Reservistenverband Brandenburg":MAILTO:brandenburg@reservistenverband.de
END:VEVENT
BEGIN:VEVENT
DTSTART;TZID=Europe/Berlin:20240615T080000
DTEND;TZID=Europe/Berlin:20240615T160000
DTSTAMP:20260423T020626
CREATED:20240304T074035Z
LAST-MODIFIED:20240606T205212Z
UID:10039-1718438400-1718467200@www.reservisten-brandenburg.de
SUMMARY:Schießen im Simulator (AGSHP)
DESCRIPTION:Verbesserung der Handlungssicherheit und Schießtechnik. \nSchwerpunkt: Schulschießübungen mit G36 und P8 \nLeitung: Hauptfeldwebel d.R. Blenke
URL:https://www.reservisten-brandenburg.de/event/schiessen-im-simulator-agshp-4/
LOCATION:Kurmark-Kaserne\, Beeskower Chaussee 15A\, Storkow (Mark)\, 15859\, Deutschland
CATEGORIES:AGSHP,Gewehr,Pistole,Schießausbildung
ATTACH;FMTTYPE=image/jpeg:https://www.reservisten-brandenburg.de/wp-content/uploads/2024/03/AGSHP.jpg
ORGANIZER;CN="Reservistenverband Brandenburg":MAILTO:brandenburg@reservistenverband.de
END:VEVENT
BEGIN:VEVENT
DTSTART;VALUE=DATE:20240620
DTEND;VALUE=DATE:20240623
DTSTAMP:20260423T020626
CREATED:20241121T104848Z
LAST-MODIFIED:20241121T105036Z
UID:10391-1718841600-1719100799@www.reservisten-brandenburg.de
SUMMARY:IGF-Wochenende
DESCRIPTION:VVag/UTE. \nDurchführung: RK Lehnitz
URL:https://www.reservisten-brandenburg.de/event/igf-wochenende-lindow/
LOCATION:Sport- und Bildungszentrum Lindow\, Lindow
CATEGORIES:Individuelle Grundfertigkeiten,Körperliche Leistungsfähigkeit,Landesgruppe,Leistungsmarsch,RK Lehnitz,Sport
ATTACH;FMTTYPE=image/jpeg:https://www.reservisten-brandenburg.de/wp-content/uploads/2019/02/Sport_Laufen_Bahn.jpg
ORGANIZER;CN="Reservistenverband Brandenburg":MAILTO:brandenburg@reservistenverband.de
END:VEVENT
BEGIN:VEVENT
DTSTART;TZID=Europe/Berlin:20240629T070000
DTEND;TZID=Europe/Berlin:20240629T160000
DTSTAMP:20260423T020626
CREATED:20240304T075339Z
LAST-MODIFIED:20240516T115238Z
UID:10043-1719644400-1719676800@www.reservisten-brandenburg.de
SUMMARY:Schießen mit Handwaffen Bundeswehr
DESCRIPTION:Schießen mit Handwaffen Bundeswehr \nSchul- und Wertungsschießen mit G36 und P8 \nLeitung: Stabsfeldwebel Glauer
URL:https://www.reservisten-brandenburg.de/event/schiessen-mit-handwaffen-bundeswehr-3/
LOCATION:StOHSchAnl Berlin\, Bernauer Straße 171\, Berlin\, 13629
CATEGORIES:Gewehr,Individuelle Grundfertigkeiten,Pistole,Schießausbildung,Schießen
ATTACH;FMTTYPE=image/jpeg:https://www.reservisten-brandenburg.de/wp-content/uploads/2019/12/neuSAK-Pistole.jpg
ORGANIZER;CN="Reservistenverband Brandenburg":MAILTO:brandenburg@reservistenverband.de
END:VEVENT
END:VCALENDAR