BEGIN:VCALENDAR
VERSION:2.0
PRODID:-//Reservistenverband Brandenburg - ECPv6.15.20//NONSGML v1.0//EN
CALSCALE:GREGORIAN
METHOD:PUBLISH
X-WR-CALNAME:Reservistenverband Brandenburg
X-ORIGINAL-URL:https://www.reservisten-brandenburg.de
X-WR-CALDESC:Veranstaltungen für Reservistenverband Brandenburg
REFRESH-INTERVAL;VALUE=DURATION:PT1H
X-Robots-Tag:noindex
X-PUBLISHED-TTL:PT1H
BEGIN:VTIMEZONE
TZID:Europe/Berlin
BEGIN:DAYLIGHT
TZOFFSETFROM:+0100
TZOFFSETTO:+0200
TZNAME:CEST
DTSTART:20230326T010000
END:DAYLIGHT
BEGIN:STANDARD
TZOFFSETFROM:+0200
TZOFFSETTO:+0100
TZNAME:CET
DTSTART:20231029T010000
END:STANDARD
BEGIN:DAYLIGHT
TZOFFSETFROM:+0100
TZOFFSETTO:+0200
TZNAME:CEST
DTSTART:20240331T010000
END:DAYLIGHT
BEGIN:STANDARD
TZOFFSETFROM:+0200
TZOFFSETTO:+0100
TZNAME:CET
DTSTART:20241027T010000
END:STANDARD
BEGIN:DAYLIGHT
TZOFFSETFROM:+0100
TZOFFSETTO:+0200
TZNAME:CEST
DTSTART:20250330T010000
END:DAYLIGHT
BEGIN:STANDARD
TZOFFSETFROM:+0200
TZOFFSETTO:+0100
TZNAME:CET
DTSTART:20251026T010000
END:STANDARD
END:VTIMEZONE
BEGIN:VEVENT
DTSTART;TZID=Europe/Berlin:20240410T180000
DTEND;TZID=Europe/Berlin:20240410T200000
DTSTAMP:20260423T055338
CREATED:20240327T110659Z
LAST-MODIFIED:20250723T221527Z
UID:10102-1712772000-1712779200@www.reservisten-brandenburg.de
SUMMARY:75 Jahre NATO - 25 Jahre Osterweiterung
DESCRIPTION:Vor 75 Jahren am 4. April 1949 wurde die NATO\, die North Atlantic Treaty Organization\, gegründet. Ihr Ziel war damals an erster Stelle der Schutz gegen eine militärische Bedrohung durch die Sowjetunion. 1955 wurde die Bundesrepublik Deutschland in die Organisation aufgenommen. \nVor 25 Jahren\, 1999\, erfolgte eine erste Osterweiterung mit dem Beitritt Polens\, Ungarns und Tschechiens. Jüngst sind zusätzlich Schweden und Finnland beigetreten. \nVor dem Hintergrund des Krieges Russlands gegen die Ukraine sprechen wir u. a. mit dem Präsidenten der Bundesakademie für Sicherheitspolitik\, Generalmajor Wolf-Jürgen Stahl\, über die Bedeutung der NATO\, der Osterweiterung und die Entwicklung in der Vergangenheit und Zukunft. \nIm Anschluss laden wir ein zu einem kleinen Empfang mit Getränken. \nDiese Veranstaltung findet im Rahmen der Reihe Politik & Sicherheit in Kooperation mit der Konrad-Adenauer-Stiftung e.V.\, Gesellschaft für Sicherheitspolitik e.V.\, der Deutschen Atlantischen Gesellschaft e.V. und dem Reservistenverband Brandenburg statt.
URL:https://www.reservisten-brandenburg.de/event/75-jahre-nato-25-jahre-osterweiterung/
LOCATION:Potsdamer Museum\, Am Alten Markt 9\, Potsdam\, 14467
CATEGORIES:Konrad-Adenauer-Stiftung,Sicherheit & Politik,Sicherheitspolitik
ATTACH;FMTTYPE=image/jpeg:https://www.reservisten-brandenburg.de/wp-content/uploads/2024/03/2018_NATO-HQ-1-1.jpg
ORGANIZER;CN="Reservistenverband Brandenburg":MAILTO:brandenburg@reservistenverband.de
END:VEVENT
BEGIN:VEVENT
DTSTART;TZID=Europe/Berlin:20240411T170000
DTEND;TZID=Europe/Berlin:20240411T193000
DTSTAMP:20260423T055338
CREATED:20240304T091516Z
LAST-MODIFIED:20240304T215022Z
UID:10052-1712854800-1712863800@www.reservisten-brandenburg.de
SUMMARY:Soldatengrundfitnesstools (SGT)
DESCRIPTION:Durchführung des Soldatengrundfitnesstools (SGT) \nLeitung: OTL d. R. Richter
URL:https://www.reservisten-brandenburg.de/event/soldatengrundfitnesstools-sgt/
LOCATION:Julius-Leber-Kaserne\, Kurt-Schumacher-Damm 41\, Berlin\, 13405
CATEGORIES:Sport
ATTACH;FMTTYPE=image/jpeg:https://www.reservisten-brandenburg.de/wp-content/uploads/2023/11/R.Richter.jpg
ORGANIZER;CN="Reservistenverband Brandenburg":MAILTO:brandenburg@reservistenverband.de
END:VEVENT
BEGIN:VEVENT
DTSTART;TZID=Europe/Berlin:20240420T070000
DTEND;TZID=Europe/Berlin:20240420T160000
DTSTAMP:20260423T055338
CREATED:20240226T120536Z
LAST-MODIFIED:20240226T160917Z
UID:10014-1713596400-1713628800@www.reservisten-brandenburg.de
SUMMARY:ABC-Abwehr aller Truppen
DESCRIPTION:Allg. Ausbildungsziel ist es\, den Ausbildungsteilnehmer im Rahmen einer theoretischen und praktischen Ausbildung grundlegende Kenntnisse und Fertigkeiten zu vermitteln\, bzw. diese aufzufrischen und zu erweitern.  Die Reservistin bzw. der Reservist muss die Grundsätze-/lagen im Umgang mit der persönlichen Schutzbekleidung / Schutzausrüstung beherrschen. Zur Überprüfung der Fähigkeiten zur Aufrechterhaltung von Kampfkraft und Auftragsfähigkeit ist in einem Handlungstraining konsequent durchzuführen. \nDurchführung: StFw Glauer \nInhalte \n\nBAS Stufen (Theorie)\nABC- Schutzmaske\nSchutzbekleidung\nHandlungstraining BAS – Stufen\nHandlungsoptionen Einsatz von A -Waffen\nHandlungsoptionen Einsatz von B -Waffen\nHandlungsoptionen Einsatz von C -Waffen\nErste Hilfemaßnahmen bei Einsatz von Massenvernichtungsmittel\nDekontaminationsausbildung\nArbeiten unter Schutzausrüstung / Bekleidung\n\nVideo: Youtube Bw
URL:https://www.reservisten-brandenburg.de/event/abc-abwehr-aller-truppen/
LOCATION:Kurmark-Kaserne\, Beeskower Chaussee 15A\, Storkow (Mark)\, 15859\, Deutschland
CATEGORIES:ABC-Abwehr,Militärische Ausbildung
ATTACH;FMTTYPE=image/jpeg:https://www.reservisten-brandenburg.de/wp-content/uploads/2019/04/ABC-Schutz_Dekontaminierung_NATO.jpg
ORGANIZER;CN="Reservistenverband Brandenburg":MAILTO:brandenburg@reservistenverband.de
END:VEVENT
BEGIN:VEVENT
DTSTART;TZID=Europe/Berlin:20240426T150000
DTEND;TZID=Europe/Berlin:20240428T130000
DTSTAMP:20260423T055338
CREATED:20240226T123356Z
LAST-MODIFIED:20240227T194208Z
UID:10016-1714143600-1714309200@www.reservisten-brandenburg.de
SUMMARY:SportBIWAK 2024 (IGF/KLF)
DESCRIPTION:Ziel ist es\, im Rahmen einer praxisorientierten Ausbildung die Teilnehmer dazu zu befähigen\, ihre eigene körperliche Leistungsfähigkeit zu erhalten und ihre individuellen Grundfertigkeiten zu erweitern. \nDas Ausbildungswochenende konzentriert sich auf folgende Schwerpunkte: \n\nAbnahme der DSA-Disziplinen\nSanitätsdienst alle Truppen\nMarsch mit Ausrüstung\nKleiderschwimmen\nBasis-Fitness-Test\n(Übungs-)Handgranaten-Zielwürfe\n\nLeitung: RK „Roter Adler” Lehnitz\, StFw d.R. Kai Menzel
URL:https://www.reservisten-brandenburg.de/event/sportbiwak-2024-igf-klf/
LOCATION:Sport- und Bildungszentrum Lindow\, Lindow
CATEGORIES:ABC-Abwehr,Individuelle Grundfertigkeiten,Körperliche Leistungsfähigkeit,Leistungsmarsch,Sport
ATTACH;FMTTYPE=image/jpeg:https://www.reservisten-brandenburg.de/wp-content/uploads/2024/02/1Wurf-e1709062872457.jpg
ORGANIZER;CN="RK 'Roter Adler' Lehnitz":MAILTO:me_ei@web.de
END:VEVENT
BEGIN:VEVENT
DTSTART;TZID=Europe/Berlin:20240427T070000
DTEND;TZID=Europe/Berlin:20240427T160000
DTSTAMP:20260423T055338
CREATED:20240304T075016Z
LAST-MODIFIED:20240304T214921Z
UID:10041-1714201200-1714233600@www.reservisten-brandenburg.de
SUMMARY:Schießen mit Handwaffen Bundeswehr
DESCRIPTION:Schießen mit Handwaffen Bundeswehr \nSchul- und Wertungsschießen mit G36 und P8 \nLeitung: Stabsfeldwebel Glauer
URL:https://www.reservisten-brandenburg.de/event/schiessen-mit-handwaffen-bundeswehr-2/
LOCATION:StOHSchAnl Berlin\, Bernauer Straße 171\, Berlin\, 13629
CATEGORIES:Gewehr,Individuelle Grundfertigkeiten,Pistole,Schießausbildung,Schießen
ATTACH;FMTTYPE=image/jpeg:https://www.reservisten-brandenburg.de/wp-content/uploads/2020/07/RSU_Lehnin_1_Bundeswehr_Gunnar.jpg
ORGANIZER;CN="Reservistenverband Brandenburg":MAILTO:brandenburg@reservistenverband.de
END:VEVENT
END:VCALENDAR