BEGIN:VCALENDAR
VERSION:2.0
PRODID:-//Reservistenverband Brandenburg - ECPv6.15.20//NONSGML v1.0//EN
CALSCALE:GREGORIAN
METHOD:PUBLISH
X-WR-CALNAME:Reservistenverband Brandenburg
X-ORIGINAL-URL:https://www.reservisten-brandenburg.de
X-WR-CALDESC:Veranstaltungen für Reservistenverband Brandenburg
REFRESH-INTERVAL;VALUE=DURATION:PT1H
X-Robots-Tag:noindex
X-PUBLISHED-TTL:PT1H
BEGIN:VTIMEZONE
TZID:Europe/Berlin
BEGIN:DAYLIGHT
TZOFFSETFROM:+0100
TZOFFSETTO:+0200
TZNAME:CEST
DTSTART:20180325T010000
END:DAYLIGHT
BEGIN:STANDARD
TZOFFSETFROM:+0200
TZOFFSETTO:+0100
TZNAME:CET
DTSTART:20181028T010000
END:STANDARD
BEGIN:DAYLIGHT
TZOFFSETFROM:+0100
TZOFFSETTO:+0200
TZNAME:CEST
DTSTART:20190331T010000
END:DAYLIGHT
BEGIN:STANDARD
TZOFFSETFROM:+0200
TZOFFSETTO:+0100
TZNAME:CET
DTSTART:20191027T010000
END:STANDARD
BEGIN:DAYLIGHT
TZOFFSETFROM:+0100
TZOFFSETTO:+0200
TZNAME:CEST
DTSTART:20200329T010000
END:DAYLIGHT
BEGIN:STANDARD
TZOFFSETFROM:+0200
TZOFFSETTO:+0100
TZNAME:CET
DTSTART:20201025T010000
END:STANDARD
END:VTIMEZONE
BEGIN:VEVENT
DTSTART;TZID=Europe/Berlin:20190403T173000
DTEND;TZID=Europe/Berlin:20190403T220000
DTSTAMP:20260422T154154
CREATED:20190119T175855Z
LAST-MODIFIED:20190418T150757Z
UID:1880-1554312600-1554328800@www.reservisten-brandenburg.de
SUMMARY:AGSHP
DESCRIPTION:Meldeschluss 28.02.2019
URL:https://www.reservisten-brandenburg.de/event/agshp-2/
LOCATION:Julius-Leber-Kaserne\, Kurt-Schumacher-Damm 41\, Berlin\, 13405
CATEGORIES:AGSHP,Landesgruppe,Militärische Ausbildung,Schießausbildung
ATTACH;FMTTYPE=image/jpeg:https://www.reservisten-brandenburg.de/wp-content/uploads/2019/01/AGSHP.jpg
ORGANIZER;CN="Reservistenverband Brandenburg":MAILTO:brandenburg@reservistenverband.de
END:VEVENT
BEGIN:VEVENT
DTSTART;TZID=Europe/Berlin:20190409T173000
DTEND;TZID=Europe/Berlin:20190409T220000
DTSTAMP:20260422T154154
CREATED:20190121T200538Z
LAST-MODIFIED:20190418T150757Z
UID:2168-1554831000-1554847200@www.reservisten-brandenburg.de
SUMMARY:AGSHP - Panzerfaust
DESCRIPTION:Erforderliche Vorausbildung zum Schießen mit Panzerfaust auf dem Truppenübungsplatz vom 12. bis 14. April. Ein weitere Termin wird am 10. April angeboten. Die Teilnahme an einem Termin ist ausreichend. \nAusgebildet werden die Grundlagen beim Schießen mit der Panzerfaust 3. \nDiese Veranstaltung ist eine dienstliche Veranstaltung (DVag). Meldeschluss: 7.3.2019.
URL:https://www.reservisten-brandenburg.de/event/agshp-panzerfaust-2/
LOCATION:Henning-von-Tresckow-Kaserne\, Werderscher Damm 21-29\, Schwielowsee\, 14548
CATEGORIES:AGSHP,Landesgruppe,Militärische Ausbildung,Panzerfaust,Schießausbildung
ATTACH;FMTTYPE=image/jpeg:https://www.reservisten-brandenburg.de/wp-content/uploads/2019/04/PzFst-3-AGSHP-2.jpg
ORGANIZER;CN="Reservistenverband Brandenburg":MAILTO:brandenburg@reservistenverband.de
END:VEVENT
BEGIN:VEVENT
DTSTART;TZID=Europe/Berlin:20190410T173000
DTEND;TZID=Europe/Berlin:20190410T220000
DTSTAMP:20260422T154154
CREATED:20190121T200006Z
LAST-MODIFIED:20190418T150757Z
UID:2162-1554917400-1554933600@www.reservisten-brandenburg.de
SUMMARY:AGSHP - Panzerfaust
DESCRIPTION:Erforderliche Vorausbildung zum Schießen mit Panzerfaust auf dem Truppenübungsplatz vom 12. bis 14. April. Ein weitere Termin wird am 9. April angeboten. Die Teilnahme an einem Termin ist ausreichend. \nAusgebildet werden die Grundlagen beim Schießen mit der Panzerfaust 3. \nDiese Veranstaltung ist eine dienstliche Veranstaltung (DVag). Meldeschluss: 7.3.2019.
URL:https://www.reservisten-brandenburg.de/event/agshp-panzerfaust/
LOCATION:Henning-von-Tresckow-Kaserne\, Werderscher Damm 21-29\, Schwielowsee\, 14548
CATEGORIES:AGSHP,Landesgruppe,Militärische Ausbildung,Panzerfaust,Schießausbildung
ATTACH;FMTTYPE=image/jpeg:https://www.reservisten-brandenburg.de/wp-content/uploads/2019/04/PzFst-3-AGSHP-2.jpg
ORGANIZER;CN="Reservistenverband Brandenburg":MAILTO:brandenburg@reservistenverband.de
END:VEVENT
BEGIN:VEVENT
DTSTART;TZID=Europe/Berlin:20190412T173000
DTEND;TZID=Europe/Berlin:20190413T190000
DTSTAMP:20260422T154154
CREATED:20190119T143034Z
LAST-MODIFIED:20190418T150757Z
UID:1822-1555090200-1555182000@www.reservisten-brandenburg.de
SUMMARY:Schießen mit Panzerfaust
DESCRIPTION:Schulschießen mit Panzerfaust und Pistole P8 auf dem TrÜbPl Altengrabow. Die Zuziehung erfolgt in die Havelland-Kaserne. \nDie Vorausbildung am AGSHP ist Voraussetzung für die Teilnahme am scharfen Schuß mit der Panzerfaust (bzw. mit Üb-Mun). Am 9. April und am 10. April werden in Potsdam entsprechende AGSHP-Termine angeboten. \nDiese Veranstaltung ist eine dienstliche Veranstaltung (DVag). Meldeschluss: 7.3.2019.
URL:https://www.reservisten-brandenburg.de/event/schiessen-mit-panzerfaust-und-grapi/
LOCATION:TrÜbPl Altengrabow\, An der Bergstraße\, Möckern OT Dörnitz\, Sachsen-Anhalt\, 39291
CATEGORIES:Granatpistole,Landesgruppe,Militärische Ausbildung,Panzerfaust,Pistole,Schießausbildung,Sicherungszug
ATTACH;FMTTYPE=image/jpeg:https://www.reservisten-brandenburg.de/wp-content/uploads/2019/01/Panzerfaust_Abschuss.jpg
ORGANIZER;CN="Reservistenverband Brandenburg":MAILTO:brandenburg@reservistenverband.de
END:VEVENT
END:VCALENDAR